BEGIN:VCALENDAR
VERSION:2.0
PRODID:-//XOLARIS Blog - ECPv6.1.2.2//NONSGML v1.0//EN
CALSCALE:GREGORIAN
METHOD:PUBLISH
X-ORIGINAL-URL:https://en.blog.xol-group.com
X-WR-CALDESC:Events for XOLARIS Blog
REFRESH-INTERVAL;VALUE=DURATION:PT1H
X-Robots-Tag:noindex
X-PUBLISHED-TTL:PT1H
BEGIN:VTIMEZONE
TZID:UTC
BEGIN:STANDARD
TZOFFSETFROM:+0000
TZOFFSETTO:+0000
TZNAME:UTC
DTSTART:20210101T000000
END:STANDARD
TZID:Europe/Zurich
BEGIN:DAYLIGHT
TZOFFSETFROM:+0100
TZOFFSETTO:+0200
TZNAME:CEST
DTSTART:20210328T010000
END:DAYLIGHT
BEGIN:STANDARD
TZOFFSETFROM:+0200
TZOFFSETTO:+0100
TZNAME:CET
DTSTART:20211031T010000
END:STANDARD
END:VTIMEZONE
BEGIN:VEVENT
DTSTART;TZID=UTC:20211207T153000
DTEND;TZID=UTC:20211207T163000
DTSTAMP:20260421T125737
CREATED:20211119T104503Z
LAST-MODIFIED:20211119T125523Z
UID:1398-1638891000-1638894600@en.blog.xol-group.com
SUMMARY:XOLARIS Webinar: Investment Opportunities in North America from the Perspective of a Private Equity Investor
DESCRIPTION:  \n \nDate: 07.12. 2021\nTime: 15:30 Uhr \nThe world has changed dramatically since 2020. We still face a deadly pandemic that appears to be largely due to our overly careless approach to the natural environment. Combined with the looming climate crisis\, it is painfully obvious that we have entered a new political\, social and economic era that has changed numerous facets of our lives and will bring about further movement. \nAt the beginning of 2021\, governments in major economic regions seemed to be aware of this and have shifted to a more environmentally conscious era. While Canada’s experience is that it makes decisions on these matters much earlier than Europe or the United States\, the US market continues to represent the world’s largest unified economy with continued high consumer spending and conditions conducive to growth companies. \nSyracuse Main\, Inc. is an investment company that is developing the concept of creating “business colonies” in Europe and North America by financing the relocation of promising small and medium-sized businesses from their birthplace to larger markets.\nThe founding team of Syracuse Main\, Inc. has decades of experience in investment banking\, corporate finance\, risk management\, capital raising\, and marketing and advertising in Western Europe\, the United States\, and Southeast Asia. This experience includes very large\, publicly traded multinationals as well as small and mid-sized companies on three continents. \nThe XOLARIS webinar will provide insight into the current state of diverse industries and companies\, and which business models offer the best investment opportunities in 2022 and also in the years to come. Case studies will be used to discuss factors that will determine the success of a private equity investment in the future and the pitfalls that must be avoided. \n  \n  \n  \nWird geladen…
URL:https://en.blog.xol-group.com/event/xolaris-webinar-investment-opportunities-in-north-america-from-the-perspective-of-a-private-equity-investor
LOCATION:SUNRISE Capital
CATEGORIES:Events,Webinar
ORGANIZER;CN="Sunrise%20Capital":MAILTO:events@sr-capital.de
END:VEVENT
BEGIN:VEVENT
DTSTART;TZID=UTC:20211209T170000
DTEND;TZID=UTC:20211209T220000
DTSTAMP:20260421T125737
CREATED:20211110T142620Z
LAST-MODIFIED:20211217T135128Z
UID:1364-1639069200-1639087200@en.blog.xol-group.com
SUMMARY:XOLARIS Finance After Work in Hamburg (cancelled)
DESCRIPTION:About XOLARIS Group\nThe XOLARIS Group\, founded in 2010\, is the first legally independent full-service provider for fund initiators of real asset investments in Europe and Asia. The group of companies includes two AIFMs based in Liechtenstein and Munich\, which cover the asset classes of private equity\, real estate\, shipping and renewable energies. They are responsible for all regulatory tasks and the AIFMD-compliant management of alternative investment funds. International investment structures based on European capital market standards are also offered through branches in France\, Hong Kong and Singapore. Other units of the group offer services ranging from advice on issuance\, structuring and fund distribution as well as fund accounting and the administration of alternative investment funds and other real asset investments. As a legally independent service provider for the conception\, administration and management of alternative investments\, the XOLARIS Group sees itself as an “enabler” for fund initiators\, asset managers and investors. \n____ \n  \nThe challenges for institutional investors in asset management are constantly increasing. In an environment of low interest rates with steadily rising inflation\, it is becoming increasingly difficult to find lucrative investments. The high volatility on the stock and bond markets also requires asset classes that have low correlations. The price squeeze in residential and commercial real estate continues: Plannable returns and availability of new investment opportunities are rare! \nWhat alternatives does the overall market offer? As you can see from the news\, the global economy is increasingly heading for structural bottlenecks in supply chain management. Many manufacturers and producers are facing major challenges in sourcing materials\, production stoppages are piling up. Empty shelves and hoarding purchases could perhaps become part of everyday life again. So what about the billion-dollar industry of infrastructure – logistics as an asset class? \nWe would like to invite you to our Finance After Work on 9 December 2021 at 5 p.m.\, which will feature a presentation on “The importance of logistics in the infrastructure asset class”. It is a joint exchange in an exclusive setting. We cordially invite you to the event with a North German (evening) snack in the salon of the Marriott Hotel\, ABC-Strasse 52 in 20354 Hamburg. \nGet detailed insights into the world of logistics infrastructure and standardised goods transport from the managing directors Marc Schumann and Andre Wreth of the logistics specialist Solvium Capital in a relaxed atmosphere. Into an industry that moves 90% of all goods worldwide and thus represents a significant factor in globalisation. There will also be plenty of time for exchanging ideas and networking with peers. \nWird geladen…
URL:https://en.blog.xol-group.com/event/xolaris-finance-after-work-in-hamburg
CATEGORIES:Events
END:VEVENT
BEGIN:VEVENT
DTSTART;TZID=Europe/Zurich:20211214T153000
DTEND;TZID=Europe/Zurich:20211214T163000
DTSTAMP:20260421T125737
CREATED:20211222T161540Z
LAST-MODIFIED:20211222T161626Z
UID:1549-1639495800-1639499400@en.blog.xol-group.com
SUMMARY:XOLARIS Webinar: Investment Opportunities in North America from the Perspective of a Private Equity Investor
DESCRIPTION:The world has changed dramatically since 2020. We still face a deadly pandemic that appears to be largely due to our overly careless approach to the natural environment. Combined with the looming climate crisis\, it is painfully obvious that we have entered a new political\, social and economic era that has changed numerous facets of our lives and will bring about further movement.\nAt the beginning of 2021\, governments in major economic regions seemed to be aware of this and have shifted to a more environmentally conscious era. While Canada’s experience is that it makes decisions on these matters much earlier than Europe or the United States\, the US market continues to represent the world’s largest unified economy with continued high consumer spending and conditions conducive to growth companies.  \nSyracuse Main\, Inc. is an investment company that is developing the concept of creating “business colonies” in Europe and North America by financing the relocation of promising small and medium-sized businesses from their birthplace to larger markets.  \nThe founding team of Syracuse Main\, Inc. has decades of experience in investment banking\, corporate finance\, risk management\, capital raising\, and marketing and advertising in Western Europe\, the United States\, and Southeast Asia. This experience includes very large\, publicly traded multinationals as well as small and mid-sized companies on three continents. \nThe XOLARIS webinar will provide insight into the current state of diverse industries and companies\, and which business models offer the best investment opportunities in 2022 and also in the years to come. Case studies will be used to discuss factors that will determine the success of a private equity investment in the future and the pitfalls that must be avoided. \nWird geladen…
URL:https://en.blog.xol-group.com/event/xolaris-webinar-investment-opportunities-in-north-america-from-the-perspective-of-a-private-equity-investor-2
CATEGORIES:Events,Webinar
ATTACH;FMTTYPE=image/jpeg:https://en.blog.xol-group.com/wp-content/uploads/2021/12/event-banner-26.jpg
END:VEVENT
BEGIN:VEVENT
DTSTART;TZID=Europe/Zurich:20211215T153000
DTEND;TZID=Europe/Zurich:20211215T163000
DTSTAMP:20260421T125737
CREATED:20211214T140552Z
LAST-MODIFIED:20211221T092521Z
UID:1445-1639582200-1639585800@en.blog.xol-group.com
SUMMARY:XOLARIS Webinar: Investment Opportunities in Sustainable Shipping
DESCRIPTION:The world economy is facing serious challenges. Despite the COVID pandemic abating\, we continue to feel the effects of supply chain disruptions across many industries\, inflationary pressures due to pent up consumer demand and persistent commodity shortages. Compounding these challenges\nare issues of global climate change which push us to be more efficient and also more sustainable when it comes to energy consumption and the protection of our environment. \nHHX-ESLA Advisory GmbH was formed by an experienced management team from the finance and shipping sectors to deliver solutions in a global economy where sustainability can be objectively defined and measured\, and at the same time can be an attractive investment opportunity. \nOne of the many structural problems we face today is an aging global shipping fleet that is partly responsible for the pollution of oceans and the environment. The management team is on a unique mission to direct capital where it can be allocated in the best manner: by retrofitting existing ships\, providing financing for scrapping older vessels and reducing the carbon footprint in the maritime sector. In doing so\, it not only produces a fully complaint ESG / Green investment opportunity\, but one that offers attractive return potential. \nIn this XOLARIS webinar the management team of HHX-ESLA will introduce the current state of the shipping market and discuss the current regulatory environment\, as shipping emissions must fall by a third by 2030 and reach zero before 2050. Various case studies will be presented to show how the “greening” of ships can be combined with an attractive yield for investors that seek stable returns \nAbout XOLARIS Group\nThe XOLARIS Group\, founded in 2010\, is the first legally independent full-service provider for fund initiators of real asset investments in Europe and Asia. The group of companies includes two AIFMs based in Liechtenstein and Munich\, which cover the asset classes of private equity\, real estate\, shipping and renewable energies. They are responsible for all regulatory tasks and the AIFMD-compliant management of alternative investment funds. International investment structures based on European capital market standards are also offered through branches in France\, Hong Kong and Singapore. Other units of the group offer services ranging from advice on issuance\, structuring and fund distribution as well as fund accounting and the administration of alternative investment funds and other real asset investments. As a legally independent service provider for the conception\, administration and management of alternative investments\, the XOLARIS Group sees itself as an “enabler” for fund initiators\, asset managers and investors. \nwww.xol-group.com | XOLARIS AG | Austrasse 15 9490 Vaduz \nTel. +423 265 056 0 | Fax +423 265 056 9 | Mail: info@xol-group.com \n  \nWird geladen…
URL:https://en.blog.xol-group.com/event/xolaris-webinar-investment-opportunities-in-sustainable-shipping-2/2021-12-15
LOCATION:online Zoom
CATEGORIES:Events,Webinar
ORGANIZER;CN="Sunrise%20Capital":MAILTO:events@sr-capital.de
END:VEVENT
END:VCALENDAR