BEGIN:VCALENDAR
VERSION:2.0
PRODID:-//XOLARIS Blog - ECPv6.1.2.2//NONSGML v1.0//EN
CALSCALE:GREGORIAN
METHOD:PUBLISH
X-ORIGINAL-URL:https://en.blog.xol-group.com
X-WR-CALDESC:Events for XOLARIS Blog
REFRESH-INTERVAL;VALUE=DURATION:PT1H
X-Robots-Tag:noindex
X-PUBLISHED-TTL:PT1H
BEGIN:VTIMEZONE
TZID:UTC
BEGIN:STANDARD
TZOFFSETFROM:+0000
TZOFFSETTO:+0000
TZNAME:UTC
DTSTART:20210101T000000
END:STANDARD
TZID:Europe/Paris
BEGIN:DAYLIGHT
TZOFFSETFROM:+0100
TZOFFSETTO:+0200
TZNAME:CEST
DTSTART:20210328T010000
END:DAYLIGHT
BEGIN:STANDARD
TZOFFSETFROM:+0200
TZOFFSETTO:+0100
TZNAME:CET
DTSTART:20211031T010000
END:STANDARD
END:VTIMEZONE
BEGIN:VEVENT
DTSTART;TZID=UTC:20211110T120000
DTEND;TZID=UTC:20211110T143000
DTSTAMP:20260421T143155
CREATED:20211018T095529Z
LAST-MODIFIED:20211022T100658Z
UID:1229-1636545600-1636554600@en.blog.xol-group.com
SUMMARY:We'll meet you at the Nordic Real Assets Lunch!
DESCRIPTION:We’ll meet you at the Nordic Real Assets Lunch!\n#xolaristalks #eventpartner \n \n  \nAbout the XOLARIS Group\nFounded in 2010\, the XOLARIS Group stands with its AIFM for an independent white label investment company with a focus on Alternative Investment Funds (AIF) in the asset classes Private Equity\, Real Estate\, Renewable Energy and Shipping. With headquarters in Liechtenstein and subsidiaries in Germany\, France\, and Asia\, the entire value chain of alternative investments can be represented\, true to its motto: “Investment Quality — Made with Passion.” \nOther units of the group offer services ranging from advice on launching\, structuring and distribution to fund accounting and the administration of alternative investment funds and other real asset investments. \nAs a legally independent service provider for the conception\, administration and management of alternative investments\, the XOLARIS Group sees itself in its entirety as an “enabler” for initiators and investors. \nwww.xol-group.com \nTel. +423 265 056 0 | Fax +423 265 056 9 | Mail: info@xol-group.com \nNewsletter\, Podcast\, XOLARIS MARKET NEWS: https://linktr.ee/xolaris_group \n  \nAbout altii\nalternative investor information (altii) is the digital marketing and online portal for all asset management strategies and news in German-speaking countries (D/A/CH/Lux). altii focuses on institutional and professional investors. The service can be used by investors free of charge.\naltii also offers a comprehensive service for the distribution of articles with analyses to increase sales and marketing efficiency with personal and automated content creation. www.altii.de\, info@altii.de\, @altii_news\, +49 69 3487 3170 \n 
URL:https://en.blog.xol-group.com/event/well-meet-you-at-the-nordic-real-assets-lunch
CATEGORIES:Events,Sponsorship
ORGANIZER;CN="Alternative%20Investor%20Information%20%28altii%29":MAILTO:info@altii.de
END:VEVENT
BEGIN:VEVENT
DTSTART;TZID=Europe/Paris:20211122T150000
DTEND;TZID=Europe/Paris:20211122T160000
DTSTAMP:20260421T143155
CREATED:20211112T135644Z
LAST-MODIFIED:20211230T093919Z
UID:1380-1637593200-1637596800@en.blog.xol-group.com
SUMMARY:Edira Investment Conference
DESCRIPTION:  \n\n\n\n\ninvest intelligently\n\nAt edira\, we pursue the approach of implementing promising projects very flexibly for our investors in suitable structures and investment models that meet investor needs and strategically select the best partners for this purpose. \nWith the real estate fund “edira Campus one”\, private investors can for the first time subscribe to a closed-end public AIF that combines the development and operation of student residences and a short term of only five years. \n  \n\n\n\n\n\n\n\n\n\nedira Campus one at a glance\n\n\nParticipation in an alternative investment fund in the form of a GmbH & Co. geschlossene InvKG. \n* Internal rate of return; based on equity without issue premium\, before taxes; past performances are not reliable indicators of actual performance. \n\n147.49 %\nPlanned total repayment (forecast) \n5 years\nTerm \n7.26 %\nPlanned target return IRR* (forecast) \n20 Mill. €\n planned investment volume \n\nMore: https://www.edira-holding.com/en/edira-campus-one.html \n\n \n  \nWird geladen…
URL:https://en.blog.xol-group.com/event/edira-investment-conference
LOCATION:edira Holding GmbH
CATEGORIES:Events,Webinar
END:VEVENT
END:VCALENDAR