BEGIN:VCALENDAR
VERSION:2.0
PRODID:-//XOLARIS Blog - ECPv6.1.2.2//NONSGML v1.0//EN
CALSCALE:GREGORIAN
METHOD:PUBLISH
X-WR-CALNAME:XOLARIS Blog
X-ORIGINAL-URL:https://en.blog.xol-group.com
X-WR-CALDESC:Events for XOLARIS Blog
REFRESH-INTERVAL;VALUE=DURATION:PT1H
X-Robots-Tag:noindex
X-PUBLISHED-TTL:PT1H
BEGIN:VTIMEZONE
TZID:UTC
BEGIN:STANDARD
TZOFFSETFROM:+0000
TZOFFSETTO:+0000
TZNAME:UTC
DTSTART:20210101T000000
END:STANDARD
END:VTIMEZONE
BEGIN:VEVENT
DTSTART;TZID=UTC:20211025T120000
DTEND;TZID=UTC:20211026T160000
DTSTAMP:20260425T112622
CREATED:20210827T121732Z
LAST-MODIFIED:20210916T135448Z
UID:1186-1635163200-1635264000@en.blog.xol-group.com
SUMMARY:Diagnostics-4-Future CONFERENCE 2021
DESCRIPTION:Dear Sir or Madam\,\nwe are delighted to announce our official partnership at the ‘Diagnostics-4-Future Conference’ that takes place on the 25th/26th of October 2021 in Constance\, Germany. Therefore\, we would like to cordially invite you to the conference. Leading experts from industry\, medicine and research will join the event to discuss the “hot topics” in diagnostics:\n• Infectious diseases / COVID-19\n• Digital diagnostics and valid business models\n• Individual diagnostics for immunotherapies/in cancer treatment\n• New approaches for common diseases\nStarting point are diagnostic questions based on medical needs of users (e.g. medical doctors\, clinics\, laboratories)\, which should give the impulse for innovative solutions by meeting with developers and technology suppliers. The event addresses patient-oriented diagnostic solutions (point-of-care) to improve health care in rural areas\, among other topics. In addition to the numerous specialist lectures and discussions\, the event is accompanied by an exhibition.\nThe conference is organized by BioLAGO e.V.\, the health network in the four-country region of Lake Constance (Germany\, Switzerland\, Austria\, and Liechtenstein).\nIntended audience\nCompanies\, laboratories\, clinics\, and research institutions – in diagnostics and neighbouring areas like pharma\, life science and medical technology. 150 experts from 11 countries took part in the last conference. \nPlanned speakers\n• Dr med. Peter Keller\, University Hospital of Bern (CH)\n• Kai Bastian Henning\, Roche Diagnostics (CH / D)\n• Prof. Dr John Rossen\, University of Groningen (NL)\n• Till Osswald\, Microsoft Healthcare (D)\n• Dr. Stephen Maher\, Trinity College Dublin/St. James’s Hospital (IRL)\n• Dr Emmanuel Delamarche\, IBM Research (CH)\n• Sebastian Vorberg\, Federal Association Internet Medicine (D)\n• Dr Reuben Benjamin\, King’s College London (UK)\n… and many more!\nMagnificent & unique venue – safe stay in pandemic times\nThe conference will take place in Constance at the historical Konzil which is located directly at the shore of Lake Constance. The organisers ensure a safe stay on-site in accordance with all regulations related to Covid-19 pandemic.\nDate and venue\nOctober 25th/26th\, 2021\nKonzil\nHafenstraße 2\nD-78462 Konstanz (Germany)\nProgramme\, information & registration: https://www.diagnostics4future.org\nContact\nBioLAGO e.V. – the health network\nByk-Gulden-Str. 2\, 78467 Konstanz\, Germany\nMichael Statnik\, Project Manager Diagnostics\n+49 7531 92 15 25-2\nmichael.statnik@biolago.org\nwww.biolago.org \nFLYER
URL:https://en.blog.xol-group.com/event/diagnostics-4-future-conference-2021
LOCATION:Konzil\, Hafenstraße 2\, Konstanz\, 78462
CATEGORIES:Events
END:VEVENT
END:VCALENDAR